BEGIN:VCALENDAR
VERSION:2.0
PRODID:-//Rotary Club of Kingscliff - ECPv5.0.2.1//NONSGML v1.0//EN
CALSCALE:GREGORIAN
METHOD:PUBLISH
X-WR-CALNAME:Rotary Club of Kingscliff
X-ORIGINAL-URL:https://www.kingscliffrotary.com.au
X-WR-CALDESC:Events for Rotary Club of Kingscliff
BEGIN:VTIMEZONE
TZID:Australia/Sydney
BEGIN:STANDARD
TZOFFSETFROM:+1100
TZOFFSETTO:+1000
TZNAME:AEST
DTSTART:20200404T160000
END:STANDARD
BEGIN:DAYLIGHT
TZOFFSETFROM:+1000
TZOFFSETTO:+1100
TZNAME:AEDT
DTSTART:20201003T160000
END:DAYLIGHT
END:VTIMEZONE
BEGIN:VEVENT
DTSTART;TZID=Australia/Sydney:20200602T183000
DTEND;TZID=Australia/Sydney:20200602T200000
DTSTAMP:20200229T105515
CREATED:20200122T011229Z
LAST-MODIFIED:20200122T011229Z
UID:436-1591122600-1591128000@www.kingscliffrotary.com.au
SUMMARY:Club Meeting
DESCRIPTION:Visiting Rotarians and guests\, please email club Secretary at secretarykingscliffrotary@gmail.com to register your attendance. \n
URL:https://www.kingscliffrotary.com.au/event/club-meeting-10/
LOCATION:Cudgen Leagues Club\, Cudgen Leagues Club\, Wommin Bay Rd\, Kingscliff\, NSW\, 2487\, Australia
CATEGORIES:Club Meeting
END:VEVENT
END:VCALENDAR